View In:
ArcMap
ArcGIS Explorer
ArcGIS JavaScript
Google Earth
View Footprint In:
Google Earth
Service Description:
Map Name: Layers
Layers:
Description:
Copyright Text:
Spatial Reference:
2818
Single Fused Map Cache: true
Tile Info:
- Height: 512
- Width: 512
- DPI: 96
-
Levels of Detail: (# Levels: 13)
-
Level ID: 0
[
Start Tile,
End Tile
]
Resolution: 1455.211243755821
Scale: 5500000.0
-
Level ID: 1
[
Start Tile,
End Tile
]
Resolution: 1222.9925001058336
Scale: 4622324.614
-
Level ID: 2
[
Start Tile,
End Tile
]
Resolution: 611.4962500529168
Scale: 2311162.307
-
Level ID: 3
[
Start Tile,
End Tile
]
Resolution: 305.74812489416644
Scale: 1155581.153
-
Level ID: 4
[
Start Tile,
End Tile
]
Resolution: 152.8740625
Scale: 577790.5767
-
Level ID: 5
[
Start Tile,
End Tile
]
Resolution: 76.4370312632292
Scale: 288895.2884
-
Level ID: 6
[
Start Tile,
End Tile
]
Resolution: 38.2185156316146
Scale: 144447.6442
-
Level ID: 7
[
Start Tile,
End Tile
]
Resolution: 19.10925781316146
Scale: 72223.82209
-
Level ID: 8
[
Start Tile,
End Tile
]
Resolution: 9.554628905257811
Scale: 36111.91104
-
Level ID: 9
[
Start Tile,
End Tile
]
Resolution: 4.7773144526289055
Scale: 18055.95552
-
Level ID: 10
[
Start Tile,
End Tile
]
Resolution: 2.3886572265790367
Scale: 9027.977761
-
Level ID: 11
[
Start Tile,
End Tile
]
Resolution: 1.1943286131572264
Scale: 4513.98888
-
Level ID: 12
[
Start Tile,
End Tile
]
Resolution: 1.0001270002540006
Scale: 3780.0
- Format: PNG8
- Compression Quality: 0
-
Origin:
X: -3.5666E7
Y: 4.25251E7
-
Spatial Reference:
2818
Initial Extent:
XMin: 22838.49039265504
YMin: -14598.727235388502
XMax: 1120858.7337106313
YMax: 575179.4727646136
Spatial Reference:
2818
Full Extent:
XMin: 63882.36205164252
YMin: -14598.727235388502
XMax: 1079814.8620516437
YMax: 575179.4727646136
Spatial Reference:
2818
Units: esriMeters
Supported Image Format Types: PNG32,PNG24,PNG,JPG,DIB,TIFF,EMF,PS,PDF,GIF,SVG,SVGZ
Document Info:
- Title: NAIP2005ServiceCached
- Author: MASGLS
- Comments:
- Subject:
- Category:
- Keywords:
- AntialiasingMode: None
- TextAntialiasingMode: Force
Supported Interfaces:
REST
SOAP
Supported Operations:
Export Map
Identify
Find
Generate KML